BEGIN:VCALENDAR
VERSION:2.0
PRODID:-//wp-events-plugin.com//7.2.3.1//EN
BEGIN:VEVENT
UID:206@zauberlehrer.com
DTSTART:20260510T141500Z
DTEND:20260510T150000Z
DTSTAMP:20260422T212534Z
URL:https://zauberlehrer.com/events/museumskinderfest-zitadelle-spandau202
 6/
SUMMARY:Museumskinderfest - Zitadelle Spandau
DESCRIPTION:An diesem Tag gehört die Zitadelle Spandau ganz den Kindern. B
 eim Museumskinderfest darf man die Fledermäuse bestaunen\, die Festung er
 forschen\, basteln\, geschminkt werden\, picknicken\, entspannen\, das Bü
 hnenprogramm genießen....\n\n... und sich verzaubern lassen.\n\nUm 15 Uhr
  bei meiner\nZaubershow auf der Zitadelle Spandau\nDa werden die Kinder zu
  Zauberkünstlern und lernen sogar einen eigenen Zaubertrick.\n\nNatürlic
 h gibt es Leckereien vor Ort\, eigene Snacks dürfen aber auch gerne mitge
 bracht werden.\n\nWeitere Informationen zum Museumskinderfest gibt es hier
 .
ATTACH;FMTTYPE=image/jpeg:https://zauberlehrer.com/wp-content/uploads/2026
 /04/IMG-20251012-WA0003-scaled.jpg
CATEGORIES:Meine öffentlichen Shows
LOCATION:Zitadelle Spandau\, Am Juliusturm 64\, Berlin\, Berlin\, 13599\, B
 erlin-Brandenburg\, Deutschland
GEO:52.540205;13.212202
X-APPLE-STRUCTURED-LOCATION;VALUE=URI;X-ADDRESS=Am Juliusturm 64\, Berlin\,
  Berlin\, 13599\, Berlin-Brandenburg\, Deutschland;X-APPLE-RADIUS=100;X-TI
 TLE=Zitadelle Spandau:geo:52.540205,13.212202
END:VEVENT
END:VCALENDAR