BEGIN:VCALENDAR
VERSION:2.0
PRODID:-//wp-events-plugin.com//7.2.3.1//EN
BEGIN:VEVENT
UID:176@zauberlehrer.com
DTSTART;TZID=Europe/Berlin:20260106T173000
DTEND;TZID=Europe/Berlin:20260106T180000
DTSTAMP:20251208T151028Z
URL:https://zauberlehrer.com/events/zauber-dienstag-im-illuseum-berlin-4-2
 025-12-23-2025-12-30-2026-01-06/
SUMMARY:Zauber-Dienstag im Illuseum Berlin
DESCRIPTION:Jeden Dienstag um 17 Uhr spiele ich eine öffentliche Zaubersho
 w mit handgemachten Illusionen im IlluLab des Illuseums Berlin.\nMit der E
 intrittskarte kann man sich vor der Zaubershow von den Illusionen und Inst
 allation des Museums für optische Täuschungen noch mal ordentlich den Ko
 pf verdrehen lassen.\nDie Grenzen der eigenen Wahrnehmung erfahren und die
  Kunst der freundlichen Täuschung genießen\,\n\nMagie²!\n&nbsp\;\n\n\n\
 n&nbsp\;\n\nDauer der Show 30 Minuten.\n\nUnbedingt immer vorher online Ti
 ckets bestellen!\n\nManchmal bin ich nämlich auch auf Tour - dann fällt 
 die Zaubershow aus.\n\nTickets und weitere Informationen unter www.illuseu
 m-berlin.de
ATTACH;FMTTYPE=image/jpeg:https://zauberlehrer.com/wp-content/uploads/2024
 /06/haende_leer_illuseum-1536x1024-1.jpg
CATEGORIES:Meine öffentlichen Shows
LOCATION:Illuseum Berlin\, Karl-Liebknecht-Str. 9\, Berlin\, Berlin\, 10178
 \, Deutschland
GEO:52.5213;13.406281
X-APPLE-STRUCTURED-LOCATION;VALUE=URI;X-ADDRESS=Karl-Liebknecht-Str. 9\, Be
 rlin\, Berlin\, 10178\, Deutschland;X-APPLE-RADIUS=100;X-TITLE=Illuseum Be
 rlin:geo:52.5213,13.406281
END:VEVENT
BEGIN:VTIMEZONE
TZID:Europe/Berlin
X-LIC-LOCATION:Europe/Berlin
BEGIN:STANDARD
DTSTART:20251026T020000
TZOFFSETFROM:+0200
TZOFFSETTO:+0100
TZNAME:CET
END:STANDARD
END:VTIMEZONE
END:VCALENDAR